BEGIN:VCALENDAR
VERSION:2.0
PRODID:-//Babinondas - ECPv6.15.17.1//NONSGML v1.0//EN
CALSCALE:GREGORIAN
METHOD:PUBLISH
X-WR-CALNAME:Babinondas
X-ORIGINAL-URL:https://www.babinondas.net
X-WR-CALDESC:Events for Babinondas
REFRESH-INTERVAL;VALUE=DURATION:PT1H
X-Robots-Tag:noindex
X-PUBLISHED-TTL:PT1H
BEGIN:VTIMEZONE
TZID:UTC
BEGIN:STANDARD
TZOFFSETFROM:+0000
TZOFFSETTO:+0000
TZNAME:UTC
DTSTART:20210101T000000
END:STANDARD
END:VTIMEZONE
BEGIN:VTIMEZONE
TZID:Europe/London
BEGIN:DAYLIGHT
TZOFFSETFROM:+0000
TZOFFSETTO:+0100
TZNAME:BST
DTSTART:20200329T010000
END:DAYLIGHT
BEGIN:STANDARD
TZOFFSETFROM:+0100
TZOFFSETTO:+0000
TZNAME:GMT
DTSTART:20201025T010000
END:STANDARD
BEGIN:DAYLIGHT
TZOFFSETFROM:+0000
TZOFFSETTO:+0100
TZNAME:BST
DTSTART:20210328T010000
END:DAYLIGHT
BEGIN:STANDARD
TZOFFSETFROM:+0100
TZOFFSETTO:+0000
TZNAME:GMT
DTSTART:20211031T010000
END:STANDARD
BEGIN:DAYLIGHT
TZOFFSETFROM:+0000
TZOFFSETTO:+0100
TZNAME:BST
DTSTART:20220327T010000
END:DAYLIGHT
BEGIN:STANDARD
TZOFFSETFROM:+0100
TZOFFSETTO:+0000
TZNAME:GMT
DTSTART:20221030T010000
END:STANDARD
END:VTIMEZONE
BEGIN:VEVENT
DTSTART;VALUE=DATE:20260107
DTEND;VALUE=DATE:20260116
DTSTAMP:20260422T232912
CREATED:20231007T083508Z
LAST-MODIFIED:20260107T171752Z
UID:240-1767744000-1768521599@www.babinondas.net
SUMMARY:BABINONDAS GREEK NIGHTS : Call to book  020 8886 1010 Thursday 15th January
DESCRIPTION:
URL:https://www.babinondas.net/event/babinondas-greek-nights-we-have-3-call-to-book-020-8886-1010-sunday-10th-august-thursday-21st-august-friday-29th-august/
LOCATION:Babinondas\, 598 Green Lanes\, London\, N13 5RY\, United Kingdom
ATTACH;FMTTYPE=image/jpeg:https://www.babinondas.net/wp-content/uploads/2023/10/2025-babinondas-events-copy-2.jpg
END:VEVENT
BEGIN:VEVENT
DTSTART;VALUE=DATE:20220414
DTEND;VALUE=DATE:20220420
DTSTAMP:20260422T232912
CREATED:20220415T113445Z
LAST-MODIFIED:20220415T113806Z
UID:1952-1649894400-1650412799@www.babinondas.net
SUMMARY:We are open all bank holiday weekend! !  Call to book 020 8886 1010
DESCRIPTION:CALL TO BOOK 020 8886 1010 \nFull Menu Available
URL:https://www.babinondas.net/event/we-are-open-all-bank-holiday-weekend-call-to-book-020-8886-1010/
LOCATION:Babinondas\, 598 Green Lanes\, London\, N13 5RY\, United Kingdom
ATTACH;FMTTYPE=image/jpeg:https://www.babinondas.net/wp-content/uploads/2018/04/P1000220.jpg
END:VEVENT
BEGIN:VEVENT
DTSTART;VALUE=DATE:20220222
DTEND;VALUE=DATE:20220328
DTSTAMP:20260422T232912
CREATED:20220127T134550Z
LAST-MODIFIED:20220222T124928Z
UID:1856-1645488000-1648425599@www.babinondas.net
SUMMARY:Mother's Day 27th March  Call to book 020 8886 1010
DESCRIPTION:CALL TO BOOK 020 8886 1010 \nFull Menu Available
URL:https://www.babinondas.net/event/greek-night-2/
LOCATION:Babinondas\, 598 Green Lanes\, London\, N13 5RY\, United Kingdom
ATTACH;FMTTYPE=image/jpeg:https://www.babinondas.net/wp-content/uploads/2022/01/Mothers-Day-2022.jpg
END:VEVENT
BEGIN:VEVENT
DTSTART;TZID=Europe/London:20210813T080000
DTEND;TZID=Europe/London:20211023T235900
DTSTAMP:20260422T232912
CREATED:20180903T145335Z
LAST-MODIFIED:20211025T144829Z
UID:889-1628841600-1635033540@www.babinondas.net
SUMMARY:NEW JOBS! # KITCHEN PORTER # CHEF (GREEK CUISINE) # WAITRESS (MINIMUM 1 YEAR EXPERIENCE)  GREAT PAY OFFERED! CALL RESTAURANT TO APPLY!!! 0208 886 1010
DESCRIPTION:
URL:https://www.babinondas.net/event/book-your-christmas-party-call-020-8886-1010/
LOCATION:Babinondas\, 598 Green Lanes\, London\, N13 5RY\, United Kingdom
ATTACH;FMTTYPE=image/jpeg:https://www.babinondas.net/wp-content/uploads/2018/09/BABINONDAS-ALL-JOBS-1-4.jpg
END:VEVENT
END:VCALENDAR