BEGIN:VCALENDAR
VERSION:2.0
PRODID:-//Babinondas - ECPv6.15.17.1//NONSGML v1.0//EN
CALSCALE:GREGORIAN
METHOD:PUBLISH
X-ORIGINAL-URL:https://www.babinondas.net
X-WR-CALDESC:Events for Babinondas
REFRESH-INTERVAL;VALUE=DURATION:PT1H
X-Robots-Tag:noindex
X-PUBLISHED-TTL:PT1H
BEGIN:VTIMEZONE
TZID:Europe/London
BEGIN:DAYLIGHT
TZOFFSETFROM:+0000
TZOFFSETTO:+0100
TZNAME:BST
DTSTART:20250330T010000
END:DAYLIGHT
BEGIN:STANDARD
TZOFFSETFROM:+0100
TZOFFSETTO:+0000
TZNAME:GMT
DTSTART:20251026T010000
END:STANDARD
BEGIN:DAYLIGHT
TZOFFSETFROM:+0000
TZOFFSETTO:+0100
TZNAME:BST
DTSTART:20260329T010000
END:DAYLIGHT
BEGIN:STANDARD
TZOFFSETFROM:+0100
TZOFFSETTO:+0000
TZNAME:GMT
DTSTART:20261025T010000
END:STANDARD
BEGIN:DAYLIGHT
TZOFFSETFROM:+0000
TZOFFSETTO:+0100
TZNAME:BST
DTSTART:20270328T010000
END:DAYLIGHT
BEGIN:STANDARD
TZOFFSETFROM:+0100
TZOFFSETTO:+0000
TZNAME:GMT
DTSTART:20271031T010000
END:STANDARD
END:VTIMEZONE
BEGIN:VEVENT
DTSTART;TZID=Europe/London:20260513T190000
DTEND;TZID=Europe/London:20260513T235900
DTSTAMP:20260422T232809
CREATED:20260413T102703Z
LAST-MODIFIED:20260421T211851Z
UID:1346-1778698800-1778716740@www.babinondas.net
SUMMARY:Elvis Night! Dinner and show Tickets £35 each 020 8886 1010
DESCRIPTION:Elvis Night!\nDinner and show\nTickets £35 each\n020 8886 1010
URL:https://www.babinondas.net/event/book-your-christmas-party-call-020-8886-1010-2/
LOCATION:Babinondas\, 598 Green Lanes\, London\, N13 5RY\, United Kingdom
ATTACH;FMTTYPE=image/jpeg:https://www.babinondas.net/wp-content/uploads/2026/05/elvis-babinondas-october-photoshop-copy.jpg
END:VEVENT
END:VCALENDAR