BEGIN:VCALENDAR
VERSION:2.0
PRODID:-//Babinondas - ECPv6.15.17.1//NONSGML v1.0//EN
CALSCALE:GREGORIAN
METHOD:PUBLISH
X-ORIGINAL-URL:https://www.babinondas.net
X-WR-CALDESC:Events for Babinondas
REFRESH-INTERVAL;VALUE=DURATION:PT1H
X-Robots-Tag:noindex
X-PUBLISHED-TTL:PT1H
BEGIN:VTIMEZONE
TZID:UTC
BEGIN:STANDARD
TZOFFSETFROM:+0000
TZOFFSETTO:+0000
TZNAME:UTC
DTSTART:20250101T000000
END:STANDARD
END:VTIMEZONE
BEGIN:VEVENT
DTSTART;VALUE=DATE:20260107
DTEND;VALUE=DATE:20260116
DTSTAMP:20260422T235652
CREATED:20231007T083508Z
LAST-MODIFIED:20260107T171752Z
UID:240-1767744000-1768521599@www.babinondas.net
SUMMARY:BABINONDAS GREEK NIGHTS : Call to book  020 8886 1010 Thursday 15th January
DESCRIPTION:
URL:https://www.babinondas.net/event/babinondas-greek-nights-we-have-3-call-to-book-020-8886-1010-sunday-10th-august-thursday-21st-august-friday-29th-august/
LOCATION:Babinondas\, 598 Green Lanes\, London\, N13 5RY\, United Kingdom
ATTACH;FMTTYPE=image/jpeg:https://www.babinondas.net/wp-content/uploads/2023/10/2025-babinondas-events-copy-2.jpg
END:VEVENT
END:VCALENDAR